BEGIN:VCALENDAR
VERSION:2.0
PRODID:-//XYLO - ECPv6.15.20//NONSGML v1.0//EN
CALSCALE:GREGORIAN
METHOD:PUBLISH
X-ORIGINAL-URL:https://xylonow.com
X-WR-CALDESC:Events for XYLO
REFRESH-INTERVAL;VALUE=DURATION:PT1H
X-Robots-Tag:noindex
X-PUBLISHED-TTL:PT1H
BEGIN:VTIMEZONE
TZID:America/New_York
BEGIN:DAYLIGHT
TZOFFSETFROM:-0500
TZOFFSETTO:-0400
TZNAME:EDT
DTSTART:20250309T070000
END:DAYLIGHT
BEGIN:STANDARD
TZOFFSETFROM:-0400
TZOFFSETTO:-0500
TZNAME:EST
DTSTART:20251102T060000
END:STANDARD
BEGIN:DAYLIGHT
TZOFFSETFROM:-0500
TZOFFSETTO:-0400
TZNAME:EDT
DTSTART:20260308T070000
END:DAYLIGHT
BEGIN:STANDARD
TZOFFSETFROM:-0400
TZOFFSETTO:-0500
TZNAME:EST
DTSTART:20261101T060000
END:STANDARD
BEGIN:DAYLIGHT
TZOFFSETFROM:-0500
TZOFFSETTO:-0400
TZNAME:EDT
DTSTART:20270314T070000
END:DAYLIGHT
BEGIN:STANDARD
TZOFFSETFROM:-0400
TZOFFSETTO:-0500
TZNAME:EST
DTSTART:20271107T060000
END:STANDARD
END:VTIMEZONE
BEGIN:VEVENT
DTSTART;TZID=America/New_York:20260616T163000
DTEND;TZID=America/New_York:20260616T193000
DTSTAMP:20260424T121852
CREATED:20260417T140022Z
LAST-MODIFIED:20260423T202928Z
UID:5439-1781627400-1781638200@xylonow.com
SUMMARY:RVA Spring B2B Career Expo
DESCRIPTION:The RVA Spring B2B Career Expo is a premier networking and career development event designed to connect Richmond’s businesses\, talent\, and opportunities all in one place. Hosted inside the Atlantic Union Bank Lounge at CarMax Park\, this first-of-its-kind experience brings together local companies\, entrepreneurs\, professionals\, and job seekers in a high-energy\, relationship-driven environment. \nWhether you’re looking to grow your business\, recruit top talent\, or explore new career paths\, this event creates meaningful connections that go beyond the traditional career fair. Attendees will have the opportunity to engage directly with businesses\, discover valuable resources\, and build relationships that lead to real opportunities. \nWith a curated mix of exhibitors\, interactive networking\, and a professional yet welcoming atmosphere\, the RVA Spring B2B Career Expo is more than just an event — it’s a platform for growth\, collaboration\, and community impact in Richmond. \nSPONSORSHIPS ARE AVAILABLE! \nPlease email mboone@xylonow.com for sponsorships and/or exhibitor information! \nTHANK YOU TO OUR SPONSORS\n \n  \n  \n  \n  \n \n\n\n  \n  \n\n 
URL:https://xylonow.com/event/rva-spring-b2b-career-expo/
LOCATION:Atlantic Union Bank Lounge at CarMax Park\, 2929 N Arthur Ashe Blvd\, Richmond\, VA\, 23220\, United States
ORGANIZER;CN="XYLO%2C LLC.":MAILTO:mboone@xylonow.com
END:VEVENT
END:VCALENDAR